BEGIN:VCALENDAR
VERSION:2.0
PRODID:-//Proloco - Riviera dei Pini - ECPv6.15.20//NONSGML v1.0//EN
CALSCALE:GREGORIAN
METHOD:PUBLISH
X-WR-CALNAME:Proloco - Riviera dei Pini
X-ORIGINAL-URL:https://www.rivieradeipini.it
X-WR-CALDESC:Eventi per Proloco - Riviera dei Pini
REFRESH-INTERVAL;VALUE=DURATION:PT1H
X-Robots-Tag:noindex
X-PUBLISHED-TTL:PT1H
BEGIN:VTIMEZONE
TZID:Europe/Rome
BEGIN:DAYLIGHT
TZOFFSETFROM:+0100
TZOFFSETTO:+0200
TZNAME:CEST
DTSTART:20230326T010000
END:DAYLIGHT
BEGIN:STANDARD
TZOFFSETFROM:+0200
TZOFFSETTO:+0100
TZNAME:CET
DTSTART:20231029T010000
END:STANDARD
BEGIN:DAYLIGHT
TZOFFSETFROM:+0100
TZOFFSETTO:+0200
TZNAME:CEST
DTSTART:20240331T010000
END:DAYLIGHT
BEGIN:STANDARD
TZOFFSETFROM:+0200
TZOFFSETTO:+0100
TZNAME:CET
DTSTART:20241027T010000
END:STANDARD
BEGIN:DAYLIGHT
TZOFFSETFROM:+0100
TZOFFSETTO:+0200
TZNAME:CEST
DTSTART:20250330T010000
END:DAYLIGHT
BEGIN:STANDARD
TZOFFSETFROM:+0200
TZOFFSETTO:+0100
TZNAME:CET
DTSTART:20251026T010000
END:STANDARD
END:VTIMEZONE
BEGIN:VEVENT
DTSTART;TZID=Europe/Rome:20240906T190000
DTEND;TZID=Europe/Rome:20240906T210000
DTSTAMP:20260419T222948
CREATED:20220518T154408Z
LAST-MODIFIED:20240326T095613Z
UID:6392-1725649200-1725656400@www.rivieradeipini.it
SUMMARY:Fungo in Festa 2024
DESCRIPTION:Fungo in Festa 2024!!!\nVenerdì 6 – sabato 7 settembre \nSerate dedicate alla gastronomia presso la Casina della Pro-Loco Riviera dei Pini\ncon protagonista il “Fungo di Cesena”\nUna tipicità a Km-Zero della Società Agricola Fungo Cesena \nDurante le serate potrete ascoltare anche le esibizioni live di: \n\nWest River Band (06/09)\nLiberi di Sognare (07/09)\n\n 
URL:https://www.rivieradeipini.it/event/fungo-in-festa/
CATEGORIES:casina,Settembre
ATTACH;FMTTYPE=image/jpeg:https://www.rivieradeipini.it/wp-content/uploads/2022/05/fungoinfesta.jpeg
END:VEVENT
END:VCALENDAR