BEGIN:VCALENDAR
VERSION:2.0
PRODID:-//Proloco - Riviera dei Pini - ECPv6.15.20//NONSGML v1.0//EN
CALSCALE:GREGORIAN
METHOD:PUBLISH
X-WR-CALNAME:Proloco - Riviera dei Pini
X-ORIGINAL-URL:https://www.rivieradeipini.it
X-WR-CALDESC:Eventi per Proloco - Riviera dei Pini
REFRESH-INTERVAL;VALUE=DURATION:PT1H
X-Robots-Tag:noindex
X-PUBLISHED-TTL:PT1H
BEGIN:VTIMEZONE
TZID:Europe/Rome
BEGIN:DAYLIGHT
TZOFFSETFROM:+0100
TZOFFSETTO:+0200
TZNAME:CEST
DTSTART:20230326T010000
END:DAYLIGHT
BEGIN:STANDARD
TZOFFSETFROM:+0200
TZOFFSETTO:+0100
TZNAME:CET
DTSTART:20231029T010000
END:STANDARD
BEGIN:DAYLIGHT
TZOFFSETFROM:+0100
TZOFFSETTO:+0200
TZNAME:CEST
DTSTART:20240331T010000
END:DAYLIGHT
BEGIN:STANDARD
TZOFFSETFROM:+0200
TZOFFSETTO:+0100
TZNAME:CET
DTSTART:20241027T010000
END:STANDARD
BEGIN:DAYLIGHT
TZOFFSETFROM:+0100
TZOFFSETTO:+0200
TZNAME:CEST
DTSTART:20250330T010000
END:DAYLIGHT
BEGIN:STANDARD
TZOFFSETFROM:+0200
TZOFFSETTO:+0100
TZNAME:CET
DTSTART:20251026T010000
END:STANDARD
END:VTIMEZONE
BEGIN:VEVENT
DTSTART;TZID=Europe/Rome:20240905T210000
DTEND;TZID=Europe/Rome:20240905T230000
DTSTAMP:20260419T234712
CREATED:20240320T111038Z
LAST-MODIFIED:20240320T111045Z
UID:6885-1725570000-1725577200@www.rivieradeipini.it
SUMMARY:Notti Romagnole in Riviera dei Pini
DESCRIPTION:Una Balera all’aperto!!!!\nmusica da ballo a 360°\ndal 13 giugno al 12 settembre tutti i giovedì sera dalle 21:00 alle 23:00\nParco dei Gemelli – Riviera dei Pini – INGRESSO GRATUITO \nElenco serate: \n13 giugno  > Frank David Orchestra Spettacolo\n20 giugno > Loris e Paolo (duo)\n27 giugno > Sofia e Ale\n04 luglio   > Romagna Folk\n11  luglio   > Loris e Paolo (duo)\n18 luglio   > Sofia e Ale\n25 luglio   > Loris e Paolo (duo)\n01 agosto  > Gusto e Lidia\n08 agosto  > Sofia e Ale\n15 agosto  > Loris e Paolo (duo)\n22 agosto  > Roby Band\n29 agosto  > Loris e Paolo (duo)\n05 settembre  > Loris e Paolo (duo)\n12 settembre  > Loris e Paolo (duo) \n 
URL:https://www.rivieradeipini.it/event/notti-romagnole-in-riviera-dei-pini-13/
CATEGORIES:Settembre
ATTACH;FMTTYPE=image/jpeg:https://www.rivieradeipini.it/wp-content/uploads/2024/03/Una-balera-allaperto.jpg
END:VEVENT
END:VCALENDAR