BEGIN:VCALENDAR
VERSION:2.0
PRODID:-//Proloco - Riviera dei Pini - ECPv6.15.20//NONSGML v1.0//EN
CALSCALE:GREGORIAN
METHOD:PUBLISH
X-WR-CALNAME:Proloco - Riviera dei Pini
X-ORIGINAL-URL:https://www.rivieradeipini.it
X-WR-CALDESC:Eventi per Proloco - Riviera dei Pini
REFRESH-INTERVAL;VALUE=DURATION:PT1H
X-Robots-Tag:noindex
X-PUBLISHED-TTL:PT1H
BEGIN:VTIMEZONE
TZID:Europe/Rome
BEGIN:DAYLIGHT
TZOFFSETFROM:+0100
TZOFFSETTO:+0200
TZNAME:CEST
DTSTART:20230326T010000
END:DAYLIGHT
BEGIN:STANDARD
TZOFFSETFROM:+0200
TZOFFSETTO:+0100
TZNAME:CET
DTSTART:20231029T010000
END:STANDARD
BEGIN:DAYLIGHT
TZOFFSETFROM:+0100
TZOFFSETTO:+0200
TZNAME:CEST
DTSTART:20240331T010000
END:DAYLIGHT
BEGIN:STANDARD
TZOFFSETFROM:+0200
TZOFFSETTO:+0100
TZNAME:CET
DTSTART:20241027T010000
END:STANDARD
BEGIN:DAYLIGHT
TZOFFSETFROM:+0100
TZOFFSETTO:+0200
TZNAME:CEST
DTSTART:20250330T010000
END:DAYLIGHT
BEGIN:STANDARD
TZOFFSETFROM:+0200
TZOFFSETTO:+0100
TZNAME:CET
DTSTART:20251026T010000
END:STANDARD
END:VTIMEZONE
BEGIN:VEVENT
DTSTART;TZID=Europe/Rome:20240712T210000
DTEND;TZID=Europe/Rome:20240712T230000
DTSTAMP:20260425T041813
CREATED:20220518T140131Z
LAST-MODIFIED:20240320T120041Z
UID:6329-1720818000-1720825200@www.rivieradeipini.it
SUMMARY:Riviera dei Pini - Serata cabaret con "Beppe Braida"
DESCRIPTION:Serata all’insegna della comicità con Beppe Braida \n  \n \nComico cabarettista fin dal lontano 1989\, ha ottenuto il grande successo con la partecipazione a Zelig\, dove ha conquistato il pubblico grazie alla sua parodia dei conduttori del TG3\, TG4 e TG5 (in cui conia i famosi tormentoni “Attentato! Si tratta di attentato!” e “Poteva essere una…”). \nDal 2007 al 2009 ha condotto “Colorado Cafè” e ha partecipato a Buona Domenica. \nE’ passato poi in Rai\, per condurre insieme ad Antonella Clerici il talk show di Rai Uno “Tutti pazzi per la tele”. \nNel 2011 torna a Mediaset nel cast del “Saturday Night Live from Milano”\, versione italiana del famoso programma comico della NBC. \nE’ stato attore in svariati film tra cui “Nirvana” (Gabriele Salvatores)\, “Finalmente Natale” (Rossella Izzo) e “Finalmente a casa” (Gianfrancesco Lazotti). \nNel 2021 partecipa\, come concorrente\, all’Isola dei Famosi: è costretto ad abbandonare il reality dopo 3 settimane\, per gravi problemi familiari. \nBibliografia: “Attentato!”\, Kowalski\, (2003) ed “Edizione straordinaria”\, Kowalski\, (2004) \n 
URL:https://www.rivieradeipini.it/event/riviera-dei-pini/
CATEGORIES:Luglio
ATTACH;FMTTYPE=image/jpeg:https://www.rivieradeipini.it/wp-content/uploads/2022/05/serata-cabaret.jpg
END:VEVENT
END:VCALENDAR