BEGIN:VCALENDAR
VERSION:2.0
PRODID:-//Proloco - Riviera dei Pini - ECPv6.15.20//NONSGML v1.0//EN
CALSCALE:GREGORIAN
METHOD:PUBLISH
X-ORIGINAL-URL:https://www.rivieradeipini.it
X-WR-CALDESC:Eventi per Proloco - Riviera dei Pini
REFRESH-INTERVAL;VALUE=DURATION:PT1H
X-Robots-Tag:noindex
X-PUBLISHED-TTL:PT1H
BEGIN:VTIMEZONE
TZID:Europe/Rome
BEGIN:DAYLIGHT
TZOFFSETFROM:+0100
TZOFFSETTO:+0200
TZNAME:CEST
DTSTART:20230326T010000
END:DAYLIGHT
BEGIN:STANDARD
TZOFFSETFROM:+0200
TZOFFSETTO:+0100
TZNAME:CET
DTSTART:20231029T010000
END:STANDARD
BEGIN:DAYLIGHT
TZOFFSETFROM:+0100
TZOFFSETTO:+0200
TZNAME:CEST
DTSTART:20240331T010000
END:DAYLIGHT
BEGIN:STANDARD
TZOFFSETFROM:+0200
TZOFFSETTO:+0100
TZNAME:CET
DTSTART:20241027T010000
END:STANDARD
BEGIN:DAYLIGHT
TZOFFSETFROM:+0100
TZOFFSETTO:+0200
TZNAME:CEST
DTSTART:20250330T010000
END:DAYLIGHT
BEGIN:STANDARD
TZOFFSETFROM:+0200
TZOFFSETTO:+0100
TZNAME:CET
DTSTART:20251026T010000
END:STANDARD
END:VTIMEZONE
BEGIN:VEVENT
DTSTART;TZID=Europe/Rome:20240903T064500
DTEND;TZID=Europe/Rome:20240903T074500
DTSTAMP:20260420T083434
CREATED:20240326T104348Z
LAST-MODIFIED:20240326T104348Z
UID:7033-1725345900-1725349500@www.rivieradeipini.it
SUMMARY:Lezioni di Nordic Walking
DESCRIPTION:Lezioni gratuite di Nordic Walking \nTutti i martedì dal 25 Giugno al 3 Settembre\ndalle 06.45 alle 07.45 \nRitrovo Info Point Riviera dei Pini\nViale Italia 374
URL:https://www.rivieradeipini.it/event/lezioni-di-nordic-walking-settembre/
LOCATION:Info Point Riviera dei Pini\, Viale Italia 374\, Cervia\, Ravenna\, 48015\, Italia
CATEGORIES:Settembre,vacanza attiva
ATTACH;FMTTYPE=image/jpeg:https://www.rivieradeipini.it/wp-content/uploads/2019/01/sport-nordic-walking.jpg
END:VEVENT
BEGIN:VEVENT
DTSTART;TZID=Europe/Rome:20240903T170000
DTEND;TZID=Europe/Rome:20240903T233000
DTSTAMP:20260420T083434
CREATED:20200315T080430Z
LAST-MODIFIED:20240214T144306Z
UID:3993-1725382800-1725406200@www.rivieradeipini.it
SUMMARY:Mercatino "La via delle cose dimenticate"
DESCRIPTION:Mercatino La via delle cose dimenticate 2024 \nTutti i martedì dalle 17:00 alle 23:30 \nDal 4 giugno al 10 settembre. \n“La via delle cose dimenticate” viale Sicilia e viale Italia a Tagliata di CerviaVi aspettano artigiani e produttori di oggetti creativi con i loro prodotti unici!!! \n  \nIl mercatino “La Via delle Cose dimenticate” dal 2009 ogni martedi\, da giugno a settembre\, lungo il viale Sicilia e viale Italia. Il mercatino ha rappresentato un momento importante per i turisti\, i quali hanno potuto conoscere ed apprezzare più da vicino i prodotti enogastronomici tipici del nostro territorio e dell’artigianato locale contribuendo ad aiutare anche il commercio ed i pubblici esercizi. \nTroverete operatori del proprio ingegno\, hobbisti troverete prodotti realizzati all’uncinetto\, con feltro\, bigiotteria\, prodotti con materiale di riciclo\, artigiani viticoltori\, apicoltori ecc. \nNon avete un mezzo proprio per raggiungerci?!?\nNo problem… il trenino Tagliata Pinarella si ferma proprio a pochi passi!
URL:https://www.rivieradeipini.it/event/mercatino-la-via-delle-cose-dimenticate-2-2-2-2-2-2-2-2-2-2-2-2-2-2-2/
LOCATION:La via delle cose dimenticate\, Via Sicilia\, Tagliata di Cervia\, RA\, 48015\, Italia
CATEGORIES:Cosa Fare,Settembre
ATTACH;FMTTYPE=image/jpeg:https://www.rivieradeipini.it/wp-content/uploads/2019/01/via-delle-cose-dmenticate.jpg
END:VEVENT
BEGIN:VEVENT
DTSTART;TZID=Europe/Rome:20240905T083000
DTEND;TZID=Europe/Rome:20240905T093000
DTSTAMP:20260420T083434
CREATED:20220516T152221Z
LAST-MODIFIED:20240215T105634Z
UID:6299-1725525000-1725528600@www.rivieradeipini.it
SUMMARY:Yoga in Pineta con Antonella - Riviera dei Pini
DESCRIPTION:Yoga in Pineta con Antonella \nLezioni di Yoga gratuite in pineta della Riviera dei Pini\nPeriodo di svolgimento:  ogni giovedì dal 20 giugno al 5 settembre.\nRitrovo: Info Point Riviera dei Pini\nOrario: 8.30\nAttrezzatura: si consiglia di portare un tappetino yoga o stuoia e telo mare. \nREGALATI UN MOMENTO  DI BENESSERE! La Proloco Riviera dei Pini in collaborazione con l’istrutturce Antonella organizzano\, nei mesi da giugno a settembre\, 12 lezioni gratuite di Yoga\, della durata di circa 60 minuti\, ambientate nella meravigliosa Pineta di Tagliata di Cervia. \nRisveglio muscolare e saluto al sole\, respiro della natura…praticare Yoga al mattino per inziare bene la giornata. Attività adatta a tutti. \nL’antica disciplina dello Yoga nasce nel cuore delle foreste dell’India circa 5 mila anni fa e che poi\, come in tutte le cose\, ci siamo “abituati” a praticarla anche negli spazi chiusi\, dimenticandone l’originario senso… ora che è arrivata la bella stagione e possiamo finalmente ritornare a respirare all’aria aperta\,  non abbiamo più scuse per non sperimentarla nel verde\, quindi sfoderate i vostri migliori tappetini e venite a praticare con me un pò di asana\, torsioni e allungamenti in una delle pinete dell’adriatico. \nPerché bisognerebbe fare sempre yoga in Pineta: \n\nCircondarsi di bellezza migliora la nostra capacità di guardare il lato positivo delle cose\nRespirare aria pulita rigenera il nostro organismo irrorando cellule\, tessuti ed organi con sangue ricco di ossigeno puro\nCamminare nel verde significa stare in un luogo ad alta concentrazione di prana\, ossia di energia vitale\, questo consente alla nostra stessa energia di crescere in maniera esponenziale: più tempo trascorriamo a contatto con la natura\, più la nostra forza vitale aumenta\nGuardare il verde in tutte le sue sfumature\, secondo l’anatomia sottile dello Yoga\, rafforza la nostra capacità di amare incondizionatamente\, essendo il colore verde associato al Chakra  Anahata il Chakra del cuore: i Chakra sono le principali centraline elettriche dislocate lungo la nostra colonna vertebrale\nPortare i piedi a contatto con la terra consente al nostro corpo di sentirsi radicato profondamente\, sviluppando senso di equilibrio e stabilità\nRicevere la luce del sole rafforza le nostre difese immunitarie\, consentendo la produzione naturale di vitamine ed ormoni che negli spazi chiusi non possono essere sintetizzati\nPraticare Yoga all’aperto accelera il lavoro yogico di unione e di armonia tra il nostro mondo interiore e quello dell’ambiente che ci circonda\n\nSi consiglia l’Iscrizione gratuita presso l’ufficio INFO POINT RIVIERA DEI PINI\, ci occorre per monitorare le adesioni. \nNon perderti questa fantastica occasione!!! \n 
URL:https://www.rivieradeipini.it/event/yoga-in-pineta-con-ben-essere-nella-riviera-dei-pini-10/
LOCATION:Info Point Riviera dei Pini\, Viale Italia 374\, Cervia\, Ravenna\, 48015\, Italia
CATEGORIES:Settembre,vacanza attiva
ATTACH;FMTTYPE=image/jpeg:https://www.rivieradeipini.it/wp-content/uploads/2022/05/yoga-in-pineta.jpeg
END:VEVENT
BEGIN:VEVENT
DTSTART;TZID=Europe/Rome:20240910T170000
DTEND;TZID=Europe/Rome:20240910T233000
DTSTAMP:20260420T083434
CREATED:20240214T144356Z
LAST-MODIFIED:20240214T144356Z
UID:6765-1725987600-1726011000@www.rivieradeipini.it
SUMMARY:Mercatino "La via delle cose dimenticate"
DESCRIPTION:Mercatino La via delle cose dimenticate 2024 \nTutti i martedì dalle 17:00 alle 23:30 \nDal 4 giugno al 10 settembre. \n“La via delle cose dimenticate” viale Sicilia e viale Italia a Tagliata di CerviaVi aspettano artigiani e produttori di oggetti creativi con i loro prodotti unici!!! \n  \nIl mercatino “La Via delle Cose dimenticate” dal 2009 ogni martedi\, da giugno a settembre\, lungo il viale Sicilia e viale Italia. Il mercatino ha rappresentato un momento importante per i turisti\, i quali hanno potuto conoscere ed apprezzare più da vicino i prodotti enogastronomici tipici del nostro territorio e dell’artigianato locale contribuendo ad aiutare anche il commercio ed i pubblici esercizi. \nTroverete operatori del proprio ingegno\, hobbisti troverete prodotti realizzati all’uncinetto\, con feltro\, bigiotteria\, prodotti con materiale di riciclo\, artigiani viticoltori\, apicoltori ecc. \nNon avete un mezzo proprio per raggiungerci?!?\nNo problem… il trenino Tagliata Pinarella si ferma proprio a pochi passi!
URL:https://www.rivieradeipini.it/event/mercatino-la-via-delle-cose-dimenticate-3/
LOCATION:La via delle cose dimenticate\, Via Sicilia\, Tagliata di Cervia\, RA\, 48015\, Italia
CATEGORIES:Cosa Fare,Settembre
ATTACH;FMTTYPE=image/jpeg:https://www.rivieradeipini.it/wp-content/uploads/2019/01/via-delle-cose-dmenticate.jpg
END:VEVENT
END:VCALENDAR