BEGIN:VCALENDAR
VERSION:2.0
PRODID:-//Proloco - Riviera dei Pini - ECPv6.15.20//NONSGML v1.0//EN
CALSCALE:GREGORIAN
METHOD:PUBLISH
X-ORIGINAL-URL:https://www.rivieradeipini.it
X-WR-CALDESC:Eventi per Proloco - Riviera dei Pini
REFRESH-INTERVAL;VALUE=DURATION:PT1H
X-Robots-Tag:noindex
X-PUBLISHED-TTL:PT1H
BEGIN:VTIMEZONE
TZID:Europe/Rome
BEGIN:DAYLIGHT
TZOFFSETFROM:+0100
TZOFFSETTO:+0200
TZNAME:CEST
DTSTART:20230326T010000
END:DAYLIGHT
BEGIN:STANDARD
TZOFFSETFROM:+0200
TZOFFSETTO:+0100
TZNAME:CET
DTSTART:20231029T010000
END:STANDARD
BEGIN:DAYLIGHT
TZOFFSETFROM:+0100
TZOFFSETTO:+0200
TZNAME:CEST
DTSTART:20240331T010000
END:DAYLIGHT
BEGIN:STANDARD
TZOFFSETFROM:+0200
TZOFFSETTO:+0100
TZNAME:CET
DTSTART:20241027T010000
END:STANDARD
BEGIN:DAYLIGHT
TZOFFSETFROM:+0100
TZOFFSETTO:+0200
TZNAME:CEST
DTSTART:20250330T010000
END:DAYLIGHT
BEGIN:STANDARD
TZOFFSETFROM:+0200
TZOFFSETTO:+0100
TZNAME:CET
DTSTART:20251026T010000
END:STANDARD
END:VTIMEZONE
BEGIN:VEVENT
DTSTART;TZID=Europe/Rome:20240710T210000
DTEND;TZID=Europe/Rome:20240710T230000
DTSTAMP:20260422T103526
CREATED:20240326T092942Z
LAST-MODIFIED:20240709T082310Z
UID:6953-1720645200-1720652400@www.rivieradeipini.it
SUMMARY:Schiuma Party
DESCRIPTION:La Proloco Riviera dei Pini è lieta di annunciare un evento imperdibile per l’estate 2024: il Schiuma Party con DJ Set\, che si terrà mercoledì 10 Luglio alle ore 21:00 nella suggestiva Piazzetta dell’Acquario\, a Tagliata di Cervia. \nL’evento promette divertimento per tutte le età\, dai più piccoli ai più grandi\, grazie a un’atmosfera unica e coinvolgente. La serata sarà arricchita da uno straordinario DJ Set\, che farà ballare e divertire tutti i partecipanti. \nDettagli dell’evento: \n📅 Quando: Mercoledì 10 Luglio \n🕘 Orario: Ore 21:00 \n📍 Dove: Piazzetta dell’Acquario\, Riviera dei Pini – Tagliata di Cervia \nCosa aspettarsi: \n\nDivertimento assicurato per tutte le età\, dai 0 ai 99 anni!\nUn incredibile DJ Set che animerà la serata con musica e ritmo.\n\nInvitiamo tutti i residenti e i turisti a partecipare a questa serata speciale\, che promette di essere uno dei momenti più divertenti dell’estate. Porta amici e famiglia per una notte di festa e allegria! \nIngresso libero. Vi aspettiamo numerosi per una serata indimenticabile!
URL:https://www.rivieradeipini.it/event/schiuma-party/
CATEGORIES:Luglio,vacanza attiva
ATTACH;FMTTYPE=application/pdf:https://www.rivieradeipini.it/wp-content/uploads/2024/03/Schiuma-Party-Mercoledi-10-luglio.pdf
END:VEVENT
END:VCALENDAR