BEGIN:VCALENDAR
VERSION:2.0
PRODID:-//Proloco - Riviera dei Pini - ECPv6.15.20//NONSGML v1.0//EN
CALSCALE:GREGORIAN
METHOD:PUBLISH
X-ORIGINAL-URL:https://www.rivieradeipini.it
X-WR-CALDESC:Eventi per Proloco - Riviera dei Pini
REFRESH-INTERVAL;VALUE=DURATION:PT1H
X-Robots-Tag:noindex
X-PUBLISHED-TTL:PT1H
BEGIN:VTIMEZONE
TZID:Europe/Rome
BEGIN:DAYLIGHT
TZOFFSETFROM:+0100
TZOFFSETTO:+0200
TZNAME:CEST
DTSTART:20230326T010000
END:DAYLIGHT
BEGIN:STANDARD
TZOFFSETFROM:+0200
TZOFFSETTO:+0100
TZNAME:CET
DTSTART:20231029T010000
END:STANDARD
BEGIN:DAYLIGHT
TZOFFSETFROM:+0100
TZOFFSETTO:+0200
TZNAME:CEST
DTSTART:20240331T010000
END:DAYLIGHT
BEGIN:STANDARD
TZOFFSETFROM:+0200
TZOFFSETTO:+0100
TZNAME:CET
DTSTART:20241027T010000
END:STANDARD
BEGIN:DAYLIGHT
TZOFFSETFROM:+0100
TZOFFSETTO:+0200
TZNAME:CEST
DTSTART:20250330T010000
END:DAYLIGHT
BEGIN:STANDARD
TZOFFSETFROM:+0200
TZOFFSETTO:+0100
TZNAME:CET
DTSTART:20251026T010000
END:STANDARD
BEGIN:DAYLIGHT
TZOFFSETFROM:+0100
TZOFFSETTO:+0200
TZNAME:CEST
DTSTART:20260329T010000
END:DAYLIGHT
BEGIN:STANDARD
TZOFFSETFROM:+0200
TZOFFSETTO:+0100
TZNAME:CET
DTSTART:20261025T010000
END:STANDARD
BEGIN:DAYLIGHT
TZOFFSETFROM:+0100
TZOFFSETTO:+0200
TZNAME:CEST
DTSTART:20270328T010000
END:DAYLIGHT
BEGIN:STANDARD
TZOFFSETFROM:+0200
TZOFFSETTO:+0100
TZNAME:CET
DTSTART:20271031T010000
END:STANDARD
END:VTIMEZONE
BEGIN:VEVENT
DTSTART;VALUE=DATE:20260111
DTEND;VALUE=DATE:20260112
DTSTAMP:20260419T210605
CREATED:20241008T094823Z
LAST-MODIFIED:20260108T151302Z
UID:7103-1768089600-1768175999@www.rivieradeipini.it
SUMMARY:Il tuffo della Befana 2026
DESCRIPTION:  \n \n\n\n\n\n\n\n\n\n\n\n\n\n\n\nL’epifania tutte le feste porta via….. ma non prima del Tuffo della Befana!!!\n\n“Il tuffo della Befana” è l’ultimo appuntamento delle festività natalizie della Romagna\, e il primo grande evento dell’anno 2026 della Riviera dei Pini\, si svolgerà nel tratto di spiaggia antistante via Sicilia. a Tagliata di Cervia – Riviera dei Pini.\n\n\n\n\n\n\n📅 Domenica 11 Gennaio 2026: Il grande giorno del Tuffo!\n\n  \n\n  Ore 8:00 – 9:15 – Pedalata della Befana\nOrganizzata dal Team Aquilotti di Cervia: una cicloturistica in mountain bike con due percorsi (40 km e 65 km). \n  Ore 10:00 – Apertura Mercatino Creativi e Food Truck\nLungo Viale Sicilia\, tra sapori locali e artigianato unico. \n  Ore 11:00 – Stand Gastronomico La Casina\n•  Lasciati tentare dal sapore autentico del cardo gobbo di Cervia.(Menù: garganelli al cardo\, costine in umido con cardo\, cardo fritto\, piadina e prosciutto\, patatine e polenta fritta) \n•  Durante la mattinata e il pomeriggio ci saranno i gruppi di Pasquaroli che verranno a cantare nel parco dei gemelli. \n•  Radio Social Coast di Cervia e Linea rosa saranno presenti nel parco con il loro stand. \n  Ore 15:00 – Il Tuffo della Befana!!!\nil momento clou in spiaggia di fronte a Viale Sicilia! \n•  Iscrizioni aperte fino alle ore 14:30. \n•  Per i più temerari: Sfida le acque d’inverno\, vinci premi per il travestimento più bello e diventa protagonista di un evento indimenticabile!\nVerranno premiati i tuffatori più originali\, meno giovani\, più giovani\, con maschere divertenti e i gruppi dei consigli di zona che sono intervenuti. \n•  Non sei pronto a tuffarti? Vieni a fare il tifo e goditi l’atmosfera unica! \n  Durante la giornata:\n•  Le befane per le vie di tagliata regaleranno a tutti i bambini dolciumi. \n•  Radio bruno presente sia in spiaggia che ad animare il mercatino. \n•  Per tutti vin brule e panettone e pandoro ad offerta libera\, verrà devoluto al reparto di riabilitazione di Cervia per acquistare le nuove attrezzature. \n•  Giochi Giganti in Legno nel Parco dei Gemelli. \n•  Animazione per bambini. \n  \n\n\n#rivieradeipini; #prolocorivieradeipini; #tagliatadicervia; #visitcervia; #visitcesenatico; #mercatino; #foodtruck; #nataleaCervia \n\n\n\n\n\n 
URL:https://www.rivieradeipini.it/event/il-tuffo-della-befana/
LOCATION:La Casina\, Parco dei Gemelli\, Cervia\, 48015
CATEGORIES:Attività invernali,casina,spiaggia
ATTACH;FMTTYPE=image/jpeg:https://www.rivieradeipini.it/wp-content/uploads/2024/10/Il-tuffo-della-Befana-pro-loco-riviera-dei-pini-scaled.jpg
END:VEVENT
BEGIN:VEVENT
DTSTART;VALUE=DATE:20260104
DTEND;VALUE=DATE:20260105
DTSTAMP:20260419T210605
CREATED:20241206T154917Z
LAST-MODIFIED:20251228T141724Z
UID:7121-1767484800-1767571199@www.rivieradeipini.it
SUMMARY:Befana Run 2026
DESCRIPTION:La Befana torna… ma di corsa! 🎽\nDopo il successo dello scorso anno\, la Befana Run apre il lungo weekend del Tuffo della Befana 2026 sulla Riviera dei Pini 🌊 \nUna camminata/corsa ludico-motoria non competitiva\, aperta a tutti\, tra pineta e mare\, per iniziare l’anno con energia e allegria! \n🕗 Programma \n\nOre 8:00 → Ritrovo e chiusura iscrizioni alla Casina della Proloco\nOre 9:30 → Partenza ufficiale della Befana Run\nA seguire → ristoro\, vin brulè\, panettone e tanta musica 🎶\n\n💶 Iscrizioni\n📎 Iscriviti entro il 31 dicembre 2025: https://join.endu.net/entry?edition=102309\n👉 Tariffe online: €12 adulti | €5 bambini (fino a 12 anni)\n👉 In loco il 4 /01/2026 : €20 adulti | €8 bambini \nLa quota include pettorale\, ristori e kit (adulti: T-shirt e Borraccia; bambini: borraccia e dolciumi) 🎁 \nVerranno distribuiti i kit fino ad esaurimento. \nParte dell’incasso sarà devoluto a Women in Run Cesena\, a sostegno dei progetti della Linea Donna 💖 \n🌲 Percorso\nTra pineta e mare\, sul nuovo Lungomare della Riviera dei Pini – il modo migliore per scoprire il nuovo volto della Riviera dei Pini in movimento! \nCompreso con la quota di iscrizione\, nr. 2 ristori e nr. 1 ristoro solo acqua \nPossibilità di rigenerarsi con la doccia calda a fine corsa\, presso la scuola primaria “A.Manzi” \nTUTTI I GIORNI A PRANZO\, dalle 11.30 apertura della Casina\, con menù al Cardo Gobbo di Cervia: Garganelli al cardo (opzionale con cardo e salsiccia)\, cardo in umido con costine; cardo fritto\, patatine fritte\, polenta fritta\, piadina con prosciutto crudo…. e l’immancabile BOMBARDINO del Baretto!!! \nUn’occasione perfetta per iniziare l’anno in modo allegro\, fare movimento e immergersi nello spirito della Befana! Iscriviti e prenota il tuo kit per entrare a pieno nella parte! \n✨ Unisciti a noi per questa nuova avventura e preparati a correre\, camminare e divertirti con la Befana e tanti nuovi amici! Vi aspettiamo numerosi! \n\n\n📞 Info: 0544 1888363 | 📧 info@rivieradeipini.it\n👉 Organizzato da Proloco Riviera dei Pini APS\ncon Comune di Cervia\, Women in Run Cesena e Radio Bruno \nFORM PER LE ISCRIZIONI ONLINE al BEFANA RUN \n\nLink: Iscriviti Subito | https://join.endu.net/entry?edition=102309 \n  \n  \n  \n\n  \n\n\n\n\n🎯 Hashtag ufficiali:\n#BefanaRun2026 #RivieraDeiPini #TuffoDellaBefana #rivieradeipini; #prolocorivieradeipini; #tagliatadicervia; #visitcervia; #visitcesenatico; #mercatino; #foodtruck; #nataleaCervia
URL:https://www.rivieradeipini.it/event/befana-run/
LOCATION:La Casina\, Parco dei Gemelli\, Cervia\, 48015
CATEGORIES:Attività invernali,casina,spiaggia
ATTACH;FMTTYPE=image/jpeg:https://www.rivieradeipini.it/wp-content/uploads/2024/12/Befana-run-pro-loco-riviera-dei-pini-scaled.jpg
END:VEVENT
BEGIN:VEVENT
DTSTART;TZID=Europe/Rome:20251005T120000
DTEND;TZID=Europe/Rome:20251005T170000
DTSTAMP:20260419T210605
CREATED:20250916T154419Z
LAST-MODIFIED:20250916T154419Z
UID:7226-1759665600-1759683600@www.rivieradeipini.it
SUMMARY:Festa Patronale della Riviera dei Pini - Menù PAELLA
DESCRIPTION:🌸 Festa di S. Teresa del Bambin Gesù 🌸📅 Domenica 5 Ottobre – Parco dei Gemelli\, Tagliata di Cervia \nLa Proloco Riviera dei Pini organizza una giornata speciale dedicata alla comunità! \n🙏 Ore 12.00 – S. Messa Solenne nel Parco dei Gemelli🍴 Ore 12.45 – Pranzo con Paella di carne e pesce\, contorno\, sangria\, acqua e sorbetto.💰 Quota di partecipazione: €25\,00 (adulti) – €18\,00 (menu bimbi). \n✨ Tutto il ricavato sarà devoluto alla Parrocchia di Tagliata.Un gesto concreto di solidarietà per sostenere insieme la nostra comunità! \n📲 Prenotazione obbligatoria entro Venerdì 3 Settembre – posti limitati!👉 modulo prenotazioni: prenotati!!!! \nWhatsapp: 375 6815079 \nTel 0544 1888363 \n\n\n   \n#ProlocoRivieraDeiPini #FestaSTeresa #TagliataCervia #ComunitàUnita
URL:https://www.rivieradeipini.it/event/festa-patronale-della-riviera-dei-pini-menu-paella/
LOCATION:La Casina\, Parco dei Gemelli\, Cervia\, 48015
CATEGORIES:casina,Ottobre
ATTACH;FMTTYPE=image/jpeg:https://www.rivieradeipini.it/wp-content/uploads/2025/09/IMG-20250916-WA0007.jpg
END:VEVENT
BEGIN:VEVENT
DTSTART;TZID=Europe/Rome:20250531T190000
DTEND;TZID=Europe/Rome:20250531T230000
DTSTAMP:20260419T210605
CREATED:20250402T083000Z
LAST-MODIFIED:20250505T062734Z
UID:7141-1748718000-1748732400@www.rivieradeipini.it
SUMMARY:Concerto MARGO'80 al Birra&Salsiccia
DESCRIPTION:Concerto MARGO’80 al Birra&Salsiccia. \nIl primo appuntamento estivo della Proloco “Riviera dei Pini” una serata all’insegna della gastronomia a km zero e della buona musica!!! \nConcerto MARGO’80 al Birra&Salsiccia inizierà alle ore 19\, sarà allestito all’interno della “La Casina” della Riviera dei Pini uno stand gastronomico dedicato alle specialità romagnole. \n \nLa serata sarà animata dalla performance musicale dei fantastici MARGO’ 80 …. divertimento assicurato. \nIn Casina\, i volontari della Proloco vi proporranno il menù con Piadina salsiccia e tanto altro\, accompagnato da fiumi di birra. \nDivertimento assicurato per rivivere la magia degli anni ’80 – ’90 con la musica italiana e straniera. Tutto LIVE!! \nPossibilità di prenotazione tavoli\, apertura prenotazioni 02.05.2025 \nPRENOTA IL TUO TAVOLO AL BIRRA & SALSICCIA \nMail: info@rivieradeipini.it \nTel 0544 1888363
URL:https://www.rivieradeipini.it/event/concerto-margo80-al-birrasalsiccia/
LOCATION:La Casina\, Parco dei Gemelli\, Cervia\, 48015
CATEGORIES:casina,Giugno,Primavera
ATTACH;FMTTYPE=image/jpeg:https://www.rivieradeipini.it/wp-content/uploads/2025/04/MARGO-25.jpeg
END:VEVENT
BEGIN:VEVENT
DTSTART;TZID=Europe/Rome:20250531T190000
DTEND;TZID=Europe/Rome:20250531T230000
DTSTAMP:20260419T210605
CREATED:20220518T142615Z
LAST-MODIFIED:20250402T123733Z
UID:6352-1748718000-1748732400@www.rivieradeipini.it
SUMMARY:BIRRA & SALSICCIA ESTATE 2025
DESCRIPTION:Birra & salsiccia si mangia e ci si diverte!!!! \nSabato 31 maggio dalle 19.00 un nuovo appuntamento della Riviera dei Pini\, con la serata dedicata a birra e salsiccia. Nel parco dei Gemelli a Tagliata di Cervia ritrovo per gustare le prelibatezze romagnole. \nSalsiccia\, squacquerone e le speciali alici marinate con misticanza\, il tutto accompagnato dalla piadina e birra fresca. \nAlle 21.00 la festa continua con la musica dei  “MARGO’ 80” \nIl parco farà da cornice alla serata e i volontari della Riviera dei Pini  faranno assaporare il calore della Romagna. \nPer soddisfare tutte le richieste\, abbiamo pensato di accogliere le prenotazioni dei tavoli per poter gustare tranquillamente il menù di Birra&Salsiccia. \nPRENOTA IL TUO TAVOLO PER BIRRA & SALSICCIA
URL:https://www.rivieradeipini.it/event/birra-salsiccia-inizio-estate/
LOCATION:La Casina\, Parco dei Gemelli\, Cervia\, 48015
CATEGORIES:casina,Giugno,Primavera
ATTACH;FMTTYPE=image/jpeg:https://www.rivieradeipini.it/wp-content/uploads/2021/08/birra-e-salsiccia.jpg
END:VEVENT
BEGIN:VEVENT
DTSTART;TZID=Europe/Rome:20240907T190000
DTEND;TZID=Europe/Rome:20240908T235900
DTSTAMP:20260419T210605
CREATED:20240326T095557Z
LAST-MODIFIED:20240326T095557Z
UID:6976-1725735600-1725839940@www.rivieradeipini.it
SUMMARY:Fungo in Festa 2024
DESCRIPTION:Fungo in Festa 2024!!!\nVenerdì 6 – sabato 7 settembre \nSerate dedicate alla gastronomia presso la Casina della Pro-Loco Riviera dei Pini\ncon protagonista il “Fungo di Cesena”\nUna tipicità a Km-Zero della Società Agricola Fungo Cesena \nDurante le serate potrete ascoltare anche le esibizioni live di: \n\nWest River Band (06/09)\nLiberi di Sognare (07/09)\n\n 
URL:https://www.rivieradeipini.it/event/fungo-in-festa-2/
CATEGORIES:casina,Settembre
ATTACH;FMTTYPE=image/jpeg:https://www.rivieradeipini.it/wp-content/uploads/2022/05/fungoinfesta.jpeg
END:VEVENT
BEGIN:VEVENT
DTSTART;TZID=Europe/Rome:20240906T190000
DTEND;TZID=Europe/Rome:20240906T210000
DTSTAMP:20260419T210605
CREATED:20220518T154408Z
LAST-MODIFIED:20240326T095613Z
UID:6392-1725649200-1725656400@www.rivieradeipini.it
SUMMARY:Fungo in Festa 2024
DESCRIPTION:Fungo in Festa 2024!!!\nVenerdì 6 – sabato 7 settembre \nSerate dedicate alla gastronomia presso la Casina della Pro-Loco Riviera dei Pini\ncon protagonista il “Fungo di Cesena”\nUna tipicità a Km-Zero della Società Agricola Fungo Cesena \nDurante le serate potrete ascoltare anche le esibizioni live di: \n\nWest River Band (06/09)\nLiberi di Sognare (07/09)\n\n 
URL:https://www.rivieradeipini.it/event/fungo-in-festa/
CATEGORIES:casina,Settembre
ATTACH;FMTTYPE=image/jpeg:https://www.rivieradeipini.it/wp-content/uploads/2022/05/fungoinfesta.jpeg
END:VEVENT
BEGIN:VEVENT
DTSTART;TZID=Europe/Rome:20240824T190000
DTEND;TZID=Europe/Rome:20240824T230000
DTSTAMP:20260419T210605
CREATED:20220518T142019Z
LAST-MODIFIED:20240320T112641Z
UID:6346-1724526000-1724540400@www.rivieradeipini.it
SUMMARY:Birra & Salsiccia - Agosto 2024
DESCRIPTION:Birra & salsiccia si mangia e si ride \nSabato 24 Agosto dalle 19.00 un nuovo appuntamento della Riviera dei Pini\, con la serata dedicata a birra e salsiccia.\nNel parco dei Gemelli a Tagliata di Cervia ritrovo per gustare le prelibatezze romagnole. \nSalsiccia\, squacquerone e le speciali alici marinate con misticanza\, il tutto accompagnato dalla piadina e birra fresca. \nAlle 21.00 la festa continua con la musica dei  “Magic Queen” \nIl parco farà da cornice alla serata e i volontari della Riviera dei Pini  faranno assaporare il calore della Romagna.
URL:https://www.rivieradeipini.it/event/birra-salsiccia-agosto/
CATEGORIES:Agosto,casina
ATTACH;FMTTYPE=image/jpeg:https://www.rivieradeipini.it/wp-content/uploads/2021/08/birra-e-salsiccia.jpg
END:VEVENT
BEGIN:VEVENT
DTSTART;TZID=Europe/Rome:20240720T190000
DTEND;TZID=Europe/Rome:20240720T230000
DTSTAMP:20260419T210605
CREATED:20210815T163203Z
LAST-MODIFIED:20240320T112914Z
UID:5749-1721502000-1721516400@www.rivieradeipini.it
SUMMARY:Birra & Salsiccia - Luglio 2024
DESCRIPTION:Birra & salsiccia si mangia e si ride \nSabato 20 Luglio dalle 19.00 un nuovo appuntamento della Riviera dei Pini\, con la serata dedicata a birra e salsiccia.\nNel parco dei Gemelli a Tagliata di Cervia ritrovo per gustare le prelibatezze romagnole. \nSalsiccia\, squacquerone e le speciali alici marinate con misticanza\, il tutto accompagnato dalla piadina e birra fresca. \nAlle 21.00 la festa continua con la musica dei  “Vasconvolti” \nIl parco farà da cornice alla serata e i volontari della Riviera dei Pini  faranno assaporare il calore della Romagna. \n 
URL:https://www.rivieradeipini.it/event/birra-salsiccia-luglio/
CATEGORIES:casina,Luglio
ATTACH;FMTTYPE=image/jpeg:https://www.rivieradeipini.it/wp-content/uploads/2021/08/birra-e-salsiccia.jpg
END:VEVENT
BEGIN:VEVENT
DTSTART;TZID=Europe/Rome:20240629T190000
DTEND;TZID=Europe/Rome:20240629T235900
DTSTAMP:20260419T210605
CREATED:20240320T112122Z
LAST-MODIFIED:20240320T112302Z
UID:6891-1719687600-1719705540@www.rivieradeipini.it
SUMMARY:Birra & Salsiccia - Giugno 2024
DESCRIPTION:Birra & salsiccia si mangia e si ride \nSabato 29 Giugno dalle 19.00 un nuovo appuntamento della Riviera dei Pini\, con la serata dedicata a birra e salsiccia.\nNel parco dei Gemelli a Tagliata di Cervia ritrovo per gustare le prelibatezze romagnole. \nSalsiccia\, squacquerone e le speciali alici marinate con misticanza\, il tutto accompagnato dalla piadina e birra fresca. \nAlle 21.00 la festa continua con la musica dei  “Punti di Vista” \nIl parco farà da cornice alla serata e i volontari della Riviera dei Pini  faranno assaporare il calore della Romagna.
URL:https://www.rivieradeipini.it/event/birra-salsiccia-giugno-2024/
LOCATION:La Casina\, Parco dei Gemelli\, Cervia\, 48015
CATEGORIES:casina,Giugno
ATTACH;FMTTYPE=image/jpeg:https://www.rivieradeipini.it/wp-content/uploads/2021/08/birra-e-salsiccia.jpg
END:VEVENT
BEGIN:VEVENT
DTSTART;TZID=Europe/Rome:20240531T190000
DTEND;TZID=Europe/Rome:20240531T230000
DTSTAMP:20260419T210605
CREATED:20200314T081740Z
LAST-MODIFIED:20240318T112120Z
UID:3941-1717182000-1717196400@www.rivieradeipini.it
SUMMARY:SERATA SPETTACOLO con i MOKA CLUB
DESCRIPTION:Il primo appuntamento estivo della Proloco “Riviera dei Pini” una serata all’insegna della gastronomia a km zero e della buona musica!!! \nLa serata inizierà alle ore 19\, sarà allestito all’interno della “La Casina” della Riviera dei Pini uno stand gastronomico dedicato alle specialità romagnole. \n \nLa serata sarà animata dalla performance musicale dei fantastici MOKA CLUB …. divertimento assicurato. \nMail: info@rivieradeipini.it \nTel 0544 1888363
URL:https://www.rivieradeipini.it/event/birra-salsiccia-con-i-moka-club/
LOCATION:La Casina\, Parco dei Gemelli\, Cervia\, 48015
CATEGORIES:casina,Giugno
ATTACH;FMTTYPE=image/webp:https://www.rivieradeipini.it/wp-content/uploads/2020/03/mokaclub-3.webp
END:VEVENT
BEGIN:VEVENT
DTSTART;TZID=Europe/Rome:20240425T000000
DTEND;TZID=Europe/Rome:20240428T235900
DTSTAMP:20260419T210605
CREATED:20240101T152313Z
LAST-MODIFIED:20240403T085538Z
UID:6121-1714003200-1714348740@www.rivieradeipini.it
SUMMARY:Incozzati Primavera 2024 Riviera dei Pini
DESCRIPTION:Incozzati Primavera 2024 Riviera dei Pini a Tagliata di Cervia \nUndicesima edizione!!! \n“Incozzati” è una manifestazione enogastronomica che si svolge a Tagliata di Cervia dal 25 al 28 aprile 2024.\nI visitatori potranno gustare menù a base di pesce a Km zero che avranno come ingrediente principale famosa “Cozza di Cervia”.\nI piatti sono preparati dalla cucina dei volontari all’interno della “Casina della Pro-Loco”\, potrete trovare specialità come risotto di pesce\, fritto misto\, seppie con i piselli e cozze alla marinara. \nApertura dello stand da giovedi 25 aprile a domenica 28 aprile (tutti i giorni servizio di pranzo e cena)\,  si alterneranno durante le serate diverse live band locali. \nL’evento si svolge all’interno del magnifico Parco dei Gemelli\, attrezzato con alcuni giochi per bambini\, a pochi passi dal mare.\nInoltre saranno presenti anche gli stand gestiti dai genitori delle scuole del territorio. \nRimani aggiornato sulla nostra pagina Facebook #Riviera dei Pini \n  \nEventi Incozzati 2024: \nGio  25/04  > Concerto di pizzica con i Fior di Velluto (trio) e partecipazione del gruppo Io Danzo Libero (ore 19:00)\nVen  26/04 > Concerto “Gli Herpes” (ore 20:00)\nSab   27/04 > Concerto “I Vasconvolti” (ore 20:00)\nDom 28/04 > Raduno vespe storiche “Vespisti Mercatesi” (ore 11:00 – 13:00)\nConcerto “Wild Angel” Country Western Dance (ore 14:00 – 18:00) \nTutti i giorni divertentissimi giochi di legno di una volta ad uso gratuito di grandi e piccini \n 
URL:https://www.rivieradeipini.it/event/incozzati-primavera/
LOCATION:La Casina\, Parco dei Gemelli\, Cervia\, 48015
CATEGORIES:arte e cultura,casina,Primavera
ATTACH;FMTTYPE=image/jpeg:https://www.rivieradeipini.it/wp-content/uploads/2022/04/foto-cozze-incozzati-riviera-dei-pini.jpg
END:VEVENT
END:VCALENDAR