BEGIN:VCALENDAR
VERSION:2.0
PRODID:-//Proloco - Riviera dei Pini - ECPv6.15.20//NONSGML v1.0//EN
CALSCALE:GREGORIAN
METHOD:PUBLISH
X-ORIGINAL-URL:https://www.rivieradeipini.it
X-WR-CALDESC:Eventi per Proloco - Riviera dei Pini
REFRESH-INTERVAL;VALUE=DURATION:PT1H
X-Robots-Tag:noindex
X-PUBLISHED-TTL:PT1H
BEGIN:VTIMEZONE
TZID:Europe/Rome
BEGIN:DAYLIGHT
TZOFFSETFROM:+0100
TZOFFSETTO:+0200
TZNAME:CEST
DTSTART:20230326T010000
END:DAYLIGHT
BEGIN:STANDARD
TZOFFSETFROM:+0200
TZOFFSETTO:+0100
TZNAME:CET
DTSTART:20231029T010000
END:STANDARD
BEGIN:DAYLIGHT
TZOFFSETFROM:+0100
TZOFFSETTO:+0200
TZNAME:CEST
DTSTART:20240331T010000
END:DAYLIGHT
BEGIN:STANDARD
TZOFFSETFROM:+0200
TZOFFSETTO:+0100
TZNAME:CET
DTSTART:20241027T010000
END:STANDARD
BEGIN:DAYLIGHT
TZOFFSETFROM:+0100
TZOFFSETTO:+0200
TZNAME:CEST
DTSTART:20250330T010000
END:DAYLIGHT
BEGIN:STANDARD
TZOFFSETFROM:+0200
TZOFFSETTO:+0100
TZNAME:CET
DTSTART:20251026T010000
END:STANDARD
END:VTIMEZONE
BEGIN:VEVENT
DTSTART;TZID=Europe/Rome:20240827T170000
DTEND;TZID=Europe/Rome:20240827T233000
DTSTAMP:20260424T211102
CREATED:20200315T080245Z
LAST-MODIFIED:20240214T144123Z
UID:3987-1724778000-1724801400@www.rivieradeipini.it
SUMMARY:Mercatino "La via delle cose dimenticate"
DESCRIPTION:Mercatino La via delle cose dimenticate 2024 \nTutti i martedì dalle 17:00 alle 23:30 \nDal 4 giugno al 10 settembre. \n“La via delle cose dimenticate” viale Sicilia e viale Italia a Tagliata di CerviaVi aspettano artigiani e produttori di oggetti creativi con i loro prodotti unici!!! \n  \nIl mercatino “La Via delle Cose dimenticate” dal 2009 ogni martedi\, da giugno a settembre\, lungo il viale Sicilia e viale Italia. Il mercatino ha rappresentato un momento importante per i turisti\, i quali hanno potuto conoscere ed apprezzare più da vicino i prodotti enogastronomici tipici del nostro territorio e dell’artigianato locale contribuendo ad aiutare anche il commercio ed i pubblici esercizi. \nTroverete operatori del proprio ingegno\, hobbisti troverete prodotti realizzati all’uncinetto\, con feltro\, bigiotteria\, prodotti con materiale di riciclo\, artigiani viticoltori\, apicoltori ecc. \nNon avete un mezzo proprio per raggiungerci?!?\nNo problem… il trenino Tagliata Pinarella si ferma proprio a pochi passi!
URL:https://www.rivieradeipini.it/event/mercatino-la-via-delle-cose-dimenticate-2-2-2-2-2-2-2-2-2-2-2-2-2/
LOCATION:La via delle cose dimenticate\, Via Sicilia\, Tagliata di Cervia\, RA\, 48015\, Italia
CATEGORIES:Agosto,Cosa Fare
ATTACH;FMTTYPE=image/jpeg:https://www.rivieradeipini.it/wp-content/uploads/2019/01/via-delle-cose-dmenticate.jpg
END:VEVENT
BEGIN:VEVENT
DTSTART;TZID=Europe/Rome:20240820T170000
DTEND;TZID=Europe/Rome:20240820T233000
DTSTAMP:20260424T211102
CREATED:20200315T080154Z
LAST-MODIFIED:20240214T144024Z
UID:3984-1724173200-1724196600@www.rivieradeipini.it
SUMMARY:Mercatino "La via delle cose dimenticate"
DESCRIPTION:Mercatino La via delle cose dimenticate 2024 \nTutti i martedì dalle 17:00 alle 23:30 \nDal 4 giugno al 10 settembre. \n“La via delle cose dimenticate” viale Sicilia e viale Italia a Tagliata di CerviaVi aspettano artigiani e produttori di oggetti creativi con i loro prodotti unici!!! \n  \nIl mercatino “La Via delle Cose dimenticate” dal 2009 ogni martedi\, da giugno a settembre\, lungo il viale Sicilia e viale Italia. Il mercatino ha rappresentato un momento importante per i turisti\, i quali hanno potuto conoscere ed apprezzare più da vicino i prodotti enogastronomici tipici del nostro territorio e dell’artigianato locale contribuendo ad aiutare anche il commercio ed i pubblici esercizi. \nTroverete operatori del proprio ingegno\, hobbisti troverete prodotti realizzati all’uncinetto\, con feltro\, bigiotteria\, prodotti con materiale di riciclo\, artigiani viticoltori\, apicoltori ecc. \nNon avete un mezzo proprio per raggiungerci?!?\nNo problem… il trenino Tagliata Pinarella si ferma proprio a pochi passi!
URL:https://www.rivieradeipini.it/event/mercatino-la-via-delle-cose-dimenticate-2-2-2-2-2-2-2-2-2-2-2-2/
LOCATION:La via delle cose dimenticate\, Via Sicilia\, Tagliata di Cervia\, RA\, 48015\, Italia
CATEGORIES:Agosto,Cosa Fare
ATTACH;FMTTYPE=image/jpeg:https://www.rivieradeipini.it/wp-content/uploads/2019/01/via-delle-cose-dmenticate.jpg
END:VEVENT
BEGIN:VEVENT
DTSTART;TZID=Europe/Rome:20240813T170000
DTEND;TZID=Europe/Rome:20240813T233000
DTSTAMP:20260424T211102
CREATED:20200315T080104Z
LAST-MODIFIED:20240214T143543Z
UID:3981-1723568400-1723591800@www.rivieradeipini.it
SUMMARY:Mercatino "La via delle cose dimenticate"
DESCRIPTION:Mercatino La via delle cose dimenticate 2024 \nTutti i martedì dalle 17:00 alle 23:30 \nDal 4 giugno al 10 settembre. \n“La via delle cose dimenticate” viale Sicilia e viale Italia a Tagliata di CerviaVi aspettano artigiani e produttori di oggetti creativi con i loro prodotti unici!!! \n  \nIl mercatino “La Via delle Cose dimenticate” dal 2009 ogni martedi\, da giugno a settembre\, lungo il viale Sicilia e viale Italia. Il mercatino ha rappresentato un momento importante per i turisti\, i quali hanno potuto conoscere ed apprezzare più da vicino i prodotti enogastronomici tipici del nostro territorio e dell’artigianato locale contribuendo ad aiutare anche il commercio ed i pubblici esercizi. \nTroverete operatori del proprio ingegno\, hobbisti troverete prodotti realizzati all’uncinetto\, con feltro\, bigiotteria\, prodotti con materiale di riciclo\, artigiani viticoltori\, apicoltori ecc. \nNon avete un mezzo proprio per raggiungerci?!?\nNo problem… il trenino Tagliata Pinarella si ferma proprio a pochi passi!
URL:https://www.rivieradeipini.it/event/mercatino-la-via-delle-cose-dimenticate-2-2-2-2-2-2-2-2-2-2-2/
LOCATION:La via delle cose dimenticate\, Via Sicilia\, Tagliata di Cervia\, RA\, 48015\, Italia
CATEGORIES:Agosto,Cosa Fare
ATTACH;FMTTYPE=image/jpeg:https://www.rivieradeipini.it/wp-content/uploads/2019/01/via-delle-cose-dmenticate.jpg
END:VEVENT
BEGIN:VEVENT
DTSTART;TZID=Europe/Rome:20240807T210000
DTEND;TZID=Europe/Rome:20240807T230000
DTSTAMP:20260424T211102
CREATED:20240214T151209Z
LAST-MODIFIED:20240214T151326Z
UID:6776-1723064400-1723071600@www.rivieradeipini.it
SUMMARY:Pompieropoli - Pompieri per un giorno
DESCRIPTION:Percorrendo il tracciato ludico preparato con sapienza\, esperienza e in totale sicurezza dai soci dell’Associazione Nazionale dei Vigili del Fuoco\,\nil bambino impara ad affrontare le diverse tipologie di camminamenti facendo così esperienza toccando con mano le diversità che possono\npresentarsi in monenti particolari del loro percorso di vita. \nI percorsi delle pompieropoli sono studiati per poter dare ai piccoli partecipanti\, in assoluta sicurezza\,\nuna nuova visione degli eventuali ostacoli che possono comparire a loro improvvisamente. \nLe attrezzature utilizzate sono progettate e collaudate da esperti ingegneri prima di essere utilizzate.
URL:https://www.rivieradeipini.it/event/pompieropoli-pompieri-per-un-giorno-3/
CATEGORIES:Agosto,Cosa Fare
ATTACH;FMTTYPE=image/jpeg:https://www.rivieradeipini.it/wp-content/uploads/2022/05/pompieropoli-evento-riviera-dei-pini-cervia-2.jpg
END:VEVENT
BEGIN:VEVENT
DTSTART;TZID=Europe/Rome:20240806T170000
DTEND;TZID=Europe/Rome:20240806T233000
DTSTAMP:20260424T211102
CREATED:20200315T075940Z
LAST-MODIFIED:20240214T143606Z
UID:3978-1722963600-1722987000@www.rivieradeipini.it
SUMMARY:Mercatino "La via delle cose dimenticate"
DESCRIPTION:Mercatino La via delle cose dimenticate 2024 \nTutti i martedì dalle 17:00 alle 23:30 \nDal 4 giugno al 10 settembre. \n“La via delle cose dimenticate” viale Sicilia e viale Italia a Tagliata di CerviaVi aspettano artigiani e produttori di oggetti creativi con i loro prodotti unici!!! \n  \nIl mercatino “La Via delle Cose dimenticate” dal 2009 ogni martedi\, da giugno a settembre\, lungo il viale Sicilia e viale Italia. Il mercatino ha rappresentato un momento importante per i turisti\, i quali hanno potuto conoscere ed apprezzare più da vicino i prodotti enogastronomici tipici del nostro territorio e dell’artigianato locale contribuendo ad aiutare anche il commercio ed i pubblici esercizi. \nTroverete operatori del proprio ingegno\, hobbisti troverete prodotti realizzati all’uncinetto\, con feltro\, bigiotteria\, prodotti con materiale di riciclo\, artigiani viticoltori\, apicoltori ecc. \nNon avete un mezzo proprio per raggiungerci?!?\nNo problem… il trenino Tagliata Pinarella si ferma proprio a pochi passi!
URL:https://www.rivieradeipini.it/event/mercatino-la-via-delle-cose-dimenticate-2-2-2-2-2-2-2-2-2-2/
LOCATION:La via delle cose dimenticate\, Via Sicilia\, Tagliata di Cervia\, RA\, 48015\, Italia
CATEGORIES:Agosto,Cosa Fare
ATTACH;FMTTYPE=image/jpeg:https://www.rivieradeipini.it/wp-content/uploads/2019/01/via-delle-cose-dmenticate.jpg
END:VEVENT
END:VCALENDAR